Workbook
Name aka131_: [3]hiddenSheet!$H$1:$H$1

Sheet Sheet1
A1: 2025年度怀化市出租车费改税补贴资金申报明细表
A2: 序号 | B2: 所属市州 | C2: 所属县区 | D2: 所属企业 | E2: 车辆信息 | M2: 运营信息 | P2: 接入省监管平台情况
E3: 车牌号 | F3: 变更情况 | G3: 变更时间 | H3: 车辆品牌 | I3: 车辆型号 | J3: 营运证号 | K3: 车龄 （年） | L3: 燃料类型 | M3: 实际运 营天数 | N3: 系数车辆数 | O3: 全年行驶里程 （公里） | P3: 是否接入 | Q3: 是否实时传输数据
A4: 1 | B4: 怀化市 | C4: 新晃县 | D4: 新晃夜郎汽车客运有限公司 | E4: 湘ND00012 | F4: 无变更 | H4: 吉利帝豪牌 | I4: HQ7OO2BEV77 | J4: 431227500279 | K4: 3.5 | L4: 纯电 | M4: 364 | N4: 1 | O4: 83586.63 | P4: 是 | Q4: 是
A5: 2 | B5: 怀化市 | C5: 新晃县 | D5: 新晃夜郎汽车客运有限公司 | E5: 湘NY9048 | F5: 报废 | G5: 45917 | H5: 大众汽车牌 | I5: SVW71612AH | J5: 431227300043 | K5: 7.4 | L5: 油车 | M5: 247 | N5: 0.69 | O5: 52325.95 | P5: 是 | Q5: 是
B6: 怀化市 | C6: 新晃县 | D6: 新晃夜郎汽车客运有限公司 | E6: 湘ND02198 | F6: 新购置 | G6: 45946 | H6: 比亚迪秦牌 | I6: BYD7008BEVB1 | J6: 431227500377 | K6: 0.2 | L6: 纯电 | M6: 77 | N6: 0.21 | O6: 19692.23 | P6: 是 | Q6: 是
A7: 3 | B7: 怀化市 | C7: 新晃县 | D7: 新晃夜郎汽车客运有限公司 | E7: 湘ND03960 | F7: 无变更 | H7: 吉利帝豪牌 | I7: HQ7OO2BEV77 | J7: 431227500277 | K7: 3.5 | L7: 纯电 | M7: 361 | N7: 1 | O7: 89895.55 | P7: 是 | Q7: 是
A8: 4 | B8: 怀化市 | C8: 新晃县 | D8: 新晃夜郎汽车客运有限公司 | E8: 湘ND04098 | F8: 无变更 | H8: 吉利帝豪牌 | I8: HQ7002BEV70 | J8: 431227500281 | K8: 3.5 | L8: 纯电 | M8: 365 | N8: 1 | O8: 99882.75 | P8: 是 | Q8: 是
A9: 5 | B9: 怀化市 | C9: 新晃县 | D9: 新晃夜郎汽车客运有限公司 | E9: 湘NY9007 | F9: 报废 | G9: 45862 | H9: 大众汽车牌 | I9: SVW71612AH | J9: 431227300006 | K9: 8 | L9: 油车 | M9: 199 | N9: 0.55 | O9: 49624.72 | P9: 是 | Q9: 是
B10: 怀化市 | C10: 新晃县 | D10: 新晃夜郎汽车客运有限公司 | E10: 湘ND04523 | F10: 新购置 | G10: 45903 | H10: 比亚迪秦牌 | I10: BYD7008BEVB1 | J10: 431227500369 | K10: 0.3 | L10: 纯电 | M10: 120 | N10: 0.33 | O10: 33978.98 | P10: 是 | Q10: 是
A11: 6 | B11: 怀化市 | C11: 新晃县 | D11: 新晃夜郎汽车客运有限公司 | E11: 湘ND04608 | F11: 无变更 | H11: 吉利帝豪牌 | I11: HQ7002BEV70 | J11: 431227500280 | K11: 3.5 | L11: 纯电 | M11: 361 | N11: 1 | O11: 82060.37 | P11: 是 | Q11: 是
A12: 7 | B12: 怀化市 | C12: 新晃县 | D12: 新晃夜郎汽车客运有限公司 | E12: 湘ND04849 | F12: 无变更 | H12: 吉利帝豪牌 | I12: HQ7002BEV70 | J12: 431227500283 | K12: 3.5 | L12: 纯电 | M12: 364 | N12: 1 | O12: 113472.51 | P12: 是 | Q12: 是
A13: 8 | B13: 怀化市 | C13: 新晃县 | D13: 新晃夜郎汽车客运有限公司 | E13: 湘NY9147 | F13: 报废 | G13: 45765 | H13: 大众汽车牌 | I13: SVW71612RS | J13: 431227500240 | K13: 7.9 | L13: 油车 | M13: 90 | N13: 0.25 | O13: 22942.51 | P13: 是 | Q13: 是
B14: 怀化市 | C14: 新晃县 | D14: 新晃夜郎汽车客运有限公司 | E14: 湘ND07839 | F14: 新购置 | G14: 45828 | H14: 比亚迪秦牌 | I14: BYD7008BEVB1 | J14: 431227500360 | K14: 0.6 | L14: 纯电 | M14: 187 | N14: 0.52 | O14: 50756.94 | P14: 是 | Q14: 是
A15: 9 | B15: 怀化市 | C15: 新晃县 | D15: 新晃夜郎汽车客运有限公司 | E15: 湘ND13005 | F15: 无变更 | H15: 吉利帝豪牌 | I15: HQ7002BEV70 | J15: 431227500276 | K15: 3.5 | L15: 纯电 | M15: 365 | N15: 1 | O15: 101347.81 | P15: 是 | Q15: 是
A16: 10 | B16: 怀化市 | C16: 新晃县 | D16: 新晃夜郎汽车客运有限公司 | E16: 湘ND14286 | F16: 无变更 | H16: 吉利帝豪牌 | I16: HQ7OO2BEV77 | J16: 431227500278 | K16: 3.5 | L16: 纯电 | M16: 326 | N16: 0.91 | O16: 97047.15 | P16: 是 | Q16: 是
A17: 11 | B17: 怀化市 | C17: 新晃县 | D17: 新晃夜郎汽车客运有限公司 | E17: 湘ND15233 | F17: 无变更 | H17: 吉利帝豪牌 | I17: HQ7002BEV70 | J17: 431227500284 | K17: 3.5 | L17: 纯电 | M17: 346 | N17: 0.96 | O17: 45537.71 | P17: 是 | Q17: 是
A18: 12 | B18: 怀化市 | C18: 新晃县 | D18: 新晃夜郎汽车客运有限公司 | E18: 湘ND17511 | F18: 无变更 | H18: 吉利帝豪牌 | I18: HQ7002BEV70 | J18: 431227500286 | K18: 3.5 | L18: 纯电 | M18: 362 | N18: 1 | O18: 71274.06 | P18: 是 | Q18: 是
A19: 13 | B19: 怀化市 | C19: 新晃县 | D19: 新晃夜郎汽车客运有限公司 | E19: 湘NY9155 | F19: 报废 | G19: 45766 | H19: 大众汽车牌 | I19: SVW71612RS | J19: 431227500247 | K19: 7.9 | L19: 油车 | M19: 90 | N19: 0.25 | O19: 22689.99 | P19: 是 | Q19: 是
B20: 怀化市 | C20: 新晃县 | D20: 新晃夜郎汽车客运有限公司 | E20: 湘ND17739 | F20: 新购置 | G20: 45828 | H20: 比亚迪秦牌 | I20: BYD7008BEVB1 | J20: 431227500361 | K20: 0.6 | L20: 纯电 | M20: 185 | N20: 0.51 | O20: 47210.5 | P20: 是 | Q20: 是
A21: 14 | B21: 怀化市 | C21: 新晃县 | D21: 新晃夜郎汽车客运有限公司 | E21: 湘ND18839 | F21: 无变更 | H21: 吉利帝豪牌 | I21: HQ7002BEV70 | J21: 431227500285 | K21: 3.5 | L21: 纯电 | M21: 364 | N21: 1 | O21: 85193.08 | P21: 是 | Q21: 是
A22: 15 | B22: 怀化市 | C22: 新晃县 | D22: 新晃夜郎汽车客运有限公司 | E22: 湘NY9151 | F22: 报废 | G22: 45766 | H22: 大众汽车牌 | I22: SVW71612RS | J22: 431227500244 | K22: 7.9 | L22: 油车 | M22: 90 | N22: 0.25 | O22: 25061.59 | P22: 是 | Q22: 是
B23: 怀化市 | C23: 新晃县 | D23: 新晃夜郎汽车客运有限公司 | E23: 湘ND40529 | F23: 新购置 | G23: 45824 | H23: 比亚迪秦牌 | I23: BYD7008BEVB1 | J23: 431227500359 | K23: 0.6 | L23: 纯电 | M23: 199 | N23: 0.55 | O23: 50510.77 | P23: 是 | Q23: 是
A24: 16 | B24: 怀化市 | C24: 新晃县 | D24: 新晃夜郎汽车客运有限公司 | E24: 湘ND40533 | F24: 无变更 | H24: 比亚迪秦牌 | I24: BYD7008BEVB1 | J24: 431227500315 | K24: 1.4 | L24: 纯电 | M24: 356 | N24: 0.99 | O24: 80324.93 | P24: 是 | Q24: 是
A25: 17 | B25: 怀化市 | C25: 新晃县 | D25: 新晃夜郎汽车客运有限公司 | E25: 湘ND40599 | F25: 无变更 | H25: 比亚迪秦牌 | I25: BYD7008BEVB1 | J25: 431227500349 | K25: 1 | L25: 纯电 | M25: 365 | N25: 1 | O25: 81083.81 | P25: 是 | Q25: 是
A26: 18 | B26: 怀化市 | C26: 新晃县 | D26: 新晃夜郎汽车客运有限公司 | E26: 湘NY9149 | F26: 报废 | G26: 45766 | H26: 大众汽车牌 | I26: SVW71612RS | J26: 431227500241 | K26: 7.9 | L26: 油车 | M26: 90 | N26: 0.25 | O26: 22332.69 | P26: 是 | Q26: 是
B27: 怀化市 | C27: 新晃县 | D27: 新晃夜郎汽车客运有限公司 | E27: 湘ND40636 | F27: 新购置 | G27: 45824 | H27: 比亚迪秦牌 | I27: BYD7008BEVB1 | J27: 431227500365 | K27: 0.6 | L27: 纯电 | M27: 195 | N27: 0.54 | O27: 55884.72 | P27: 是 | Q27: 是
A28: 19 | B28: 怀化市 | C28: 新晃县 | D28: 新晃夜郎汽车客运有限公司 | E28: 湘NY6898 | F28: 报废 | G28: 45917 | H28: 大众汽车牌 | I28: SVW71612AH | J28: 431227500259 | K28: 7 | L28: 油车 | M28: 252 | N28: 0.7 | O28: 49688.23 | P28: 是 | Q28: 是
B29: 怀化市 | C29: 新晃县 | D29: 新晃夜郎汽车客运有限公司 | E29: 湘ND40808 | F29: 新购置 | G29: 45946 | H29: 比亚迪秦牌 | I29: BYD7008BEVB1 | J29: 431227500373 | K29: 0.2 | L29: 纯电 | M29: 77 | N29: 0.21 | O29: 17900.7 | P29: 是 | Q29: 是
A30: 20 | B30: 怀化市 | C30: 新晃县 | D30: 新晃夜郎汽车客运有限公司 | E30: 湘ND40919 | F30: 无变更 | H30: 比亚迪秦牌 | I30: BYD7008BEVB1 | J30: 431227500344 | K30: 1 | L30: 纯电 | M30: 363 | N30: 1 | O30: 90627.11 | P30: 是 | Q30: 是
A31: 21 | B31: 怀化市 | C31: 新晃县 | D31: 新晃夜郎汽车客运有限公司 | E31: 湘ND41322 | F31: 无变更 | H31: 比亚迪秦牌 | I31: BYD7008BEVB1 | J31: 431227500322 | K31: 1 | L31: 纯电 | M31: 365 | N31: 1 | O31: 97927.27 | P31: 是 | Q31: 是
A32: 22 | B32: 怀化市 | C32: 新晃县 | D32: 新晃夜郎汽车客运有限公司 | E32: 湘NY9156 | F32: 报废 | G32: 45766 | H32: 大众汽车牌 | I32: SVW71612RS | J32: 431227500248 | K32: 7.9 | L32: 油车 | M32: 90 | N32: 0.25 | O32: 18759.35 | P32: 是 | Q32: 是
B33: 怀化市 | C33: 新晃县 | D33: 新晃夜郎汽车客运有限公司 | E33: 湘ND41356 | F33: 新购置 | G33: 45824 | H33: 比亚迪秦牌 | I33: BYD7008BEVB1 | J33: 431227500364 | K33: 0.6 | L33: 纯电 | M33: 199 | N33: 0.55 | O33: 42094.57 | P33: 是 | Q33: 是
A34: 23 | B34: 怀化市 | C34: 新晃县 | D34: 新晃夜郎汽车客运有限公司 | E34: 湘NY9011 | F34: 报废 | G34: 45910 | H34: 大众汽车牌 | I34: SVW71612AH | J34: 431227300010 | K34: 7.4 | L34: 油车 | M34: 224 | N34: 0.62 | O34: 47228.11 | P34: 是 | Q34: 是
B35: 怀化市 | C35: 新晃县 | D35: 新晃夜郎汽车客运有限公司 | E35: 湘ND41439 | F35: 新购置 | G35: 45946 | H35: 比亚迪秦牌 | I35: BYD7008BEVB1 | J35: 431227500375 | K35: 0.2 | L35: 纯电 | M35: 77 | N35: 0.21 | O35: 18792.01 | P35: 是 | Q35: 是
A36: 24 | B36: 怀化市 | C36: 新晃县 | D36: 新晃夜郎汽车客运有限公司 | E36: 湘ND41748 | F36: 无变更 | H36: 比亚迪秦牌 | I36: BYD7008BEVB1 | J36: 431227500336 | K36: 1.6 | L36: 纯电 | M36: 365 | N36: 1 | O36: 67682.13 | P36: 是 | Q36: 是
A37: 25 | B37: 怀化市 | C37: 新晃县 | D37: 新晃夜郎汽车客运有限公司 | E37: 湘ND41869 | F37: 无变更 | H37: 比亚迪秦牌 | I37: BYD7008BEVB1 | J37: 431227500327 | K37: 1.6 | L37: 纯电 | M37: 364 | N37: 1 | O37: 94556.39 | P37: 是 | Q37: 是
A38: 26 | B38: 怀化市 | C38: 新晃县 | D38: 新晃夜郎汽车客运有限公司 | E38: 湘ND42115 | F38: 无变更 | H38: 比亚迪秦牌 | I38: BYD7008BEVB1 | J38: 431227500325 | K38: 1.6 | L38: 纯电 | M38: 364 | N38: 1 | O38: 67237.52 | P38: 是 | Q38: 是
A39: 27 | B39: 怀化市 | C39: 新晃县 | D39: 新晃夜郎汽车客运有限公司 | E39: 湘ND42169 | F39: 无变更 | H39: 比亚迪秦牌 | I39: BYD7008BEVB1 | J39: 431227500343 | K39: 1.1 | L39: 纯电 | M39: 360 | N39: 1 | O39: 75734.75 | P39: 是 | Q39: 是
A40: 28 | B40: 怀化市 | C40: 新晃县 | D40: 新晃夜郎汽车客运有限公司 | E40: 湘ND42360 | F40: 无变更 | H40: 比亚迪秦牌 | I40: BYD7008BEVB1 | J40: 431227500311 | K40: 1.6 | L40: 纯电 | M40: 353 | N40: 0.98 | O40: 59589.02 | P40: 是 | Q40: 是
...

Sheet Sheet2

Sheet Sheet3
