Workbook
Name aka131_: [3]hiddenSheet!$H$1:$H$1

Sheet Sheet1
A1: 2025年度怀化市出租车费改税补贴资金申报明细表
A2: 序号 | B2: 所属市州 | C2: 所属县区 | D2: 所属企业 | E2: 车辆信息 | M2: 运营信息 | P2: 接入省监管平台情况
E3: 车牌号 | F3: 变更情况 | G3: 变更时间 | H3: 车辆品牌 | I3: 车辆型号 | J3: 营运证号 | K3: 车龄 （年） | L3: 燃料类型 | M3: 实际运 营天数 | N3: 系数车辆数 | O3: 全年行驶里程 （公里） | P3: 是否接入 | Q3: 是否实时传输数据
A4: 1 | B4: 怀化市 | C4: 新晃县 | D4: 新晃夜郎汽车客运有限公司 | E4: 湘ND00012 | F4: 无变更 | H4: 吉利帝豪牌 | I4: HQ7OO2BEV77 | J4: 431227500279 | K4: 3.5 | L4: 纯电 | M4: 364 | N4: 1 | O4: 83586.63 | P4: 是 | Q4: 是
A5: 2 | B5: 怀化市 | C5: 新晃县 | D5: 新晃夜郎汽车客运有限公司 | E5: 湘NY9048 | F5: 报废 | G5: 45917 | H5: 大众汽车牌 | I5: SVW71612AH | J5: 431227300043 | K5: 7.4 | L5: 油车 | M5: 247 | N5: 0.69 | O5: 52325.95 | P5: 是 | Q5: 是
B6: 怀化市 | C6: 新晃县 | D6: 新晃夜郎汽车客运有限公司 | E6: 湘ND02198 | F6: 新购置 | G6: 45946 | H6: 比亚迪秦牌 | I6: BYD7008BEVB1 | J6: 431227500377 | K6: 0.2 | L6: 纯电 | M6: 77 | N6: 0.21 | O6: 19692.23 | P6: 是 | Q6: 是
A7: 3 | B7: 怀化市 | C7: 新晃县 | D7: 新晃夜郎汽车客运有限公司 | E7: 湘ND03960 | F7: 无变更 | H7: 吉利帝豪牌 | I7: HQ7OO2BEV77 | J7: 431227500277 | K7: 3.5 | L7: 纯电 | M7: 361 | N7: 1 | O7: 89895.55 | P7: 是 | Q7: 是
A8: 4 | B8: 怀化市 | C8: 新晃县 | D8: 新晃夜郎汽车客运有限公司 | E8: 湘ND04098 | F8: 无变更 | H8: 吉利帝豪牌 | I8: HQ7002BEV70 | J8: 431227500281 | K8: 3.5 | L8: 纯电 | M8: 365 | N8: 1 | O8: 99882.75 | P8: 是 | Q8: 是
A9: 5 | B9: 怀化市 | C9: 新晃县 | D9: 新晃夜郎汽车客运有限公司 | E9: 湘NY9007 | F9: 报废 | G9: 45862 | H9: 大众汽车牌 | I9: SVW71612AH | J9: 431227300006 | K9: 8 | L9: 油车 | M9: 199 | N9: 0.55 | O9: 49624.72 | P9: 是 | Q9: 是
B10: 怀化市 | C10: 新晃县 | D10: 新晃夜郎汽车客运有限公司 | E10: 湘ND04523 | F10: 新购置 | G10: 45903 | H10: 比亚迪秦牌 | I10: BYD7008BEVB1 | J10: 431227500369 | K10: 0.3 | L10: 纯电 | M10: 120 | N10: 0.33 | O10: 33978.98 | P10: 是 | Q10: 是
A11: 6 | B11: 怀化市 | C11: 新晃县 | D11: 新晃夜郎汽车客运有限公司 | E11: 湘ND04608 | F11: 无变更 | H11: 吉利帝豪牌 | I11: HQ7002BEV70 | J11: 431227500280 | K11: 3.5 | L11: 纯电 | M11: 361 | N11: 1 | O11: 82060.37 | P11: 是 | Q11: 是
A12: 7 | B12: 怀化市 | C12: 新晃县 | D12: 新晃夜郎汽车客运有限公司 | E12: 湘ND04849 | F12: 无变更 | H12: 吉利帝豪牌 | I12: HQ7002BEV70 | J12: 431227500283 | K12: 3.5 | L12: 纯电 | M12: 364 | N12: 1 | O12: 113472.51 | P12: 是 | Q12: 是
A13: 8 | B13: 怀化市 | C13: 新晃县 | D13: 新晃夜郎汽车客运有限公司 | E13: 湘NY9147 | F13: 报废 | G13: 45765 | H13: 大众汽车牌 | I13: SVW71612RS | J13: 431227500240 | K13: 7.9 | L13: 油车 | M13: 90 | N13: 0.25 | O13: 22942.51 | P13: 是 | Q13: 是
B14: 怀化市 | C14: 新晃县 | D14: 新晃夜郎汽车客运有限公司 | E14: 湘ND07839 | F14: 新购置 | G14: 45828 | H14: 比亚迪秦牌 | I14: BYD7008BEVB1 | J14: 431227500360 | K14: 0.6 | L14: 纯电 | M14: 187 | N14: 0.52 | O14: 50756.94 | P14: 是 | Q14: 是
A15: 9 | B15: 怀化市 | C15: 新晃县 | D15: 新晃夜郎汽车客运有限公司 | E15: 湘ND13005 | F15: 无变更 | H15: 吉利帝豪牌 | I15: HQ7002BEV70 | J15: 431227500276 | K15: 3.5 | L15: 纯电 | M15: 365 | N15: 1 | O15: 101347.81 | P15: 是 | Q15: 是
A16: 10 | B16: 怀化市 | C16: 新晃县 | D16: 新晃夜郎汽车客运有限公司 | E16: 湘ND14286 | F16: 无变更 | H16: 吉利帝豪牌 | I16: HQ7OO2BEV77 | J16: 431227500278 | K16: 3.5 | L16: 纯电 | M16: 326 | N16: 0.91 | O16: 97047.15 | P16: 是 | Q16: 是
A17: 11 | B17: 怀化市 | C17: 新晃县 | D17: 新晃夜郎汽车客运有限公司 | E17: 湘ND15233 | F17: 无变更 | H17: 吉利帝豪牌 | I17: HQ7002BEV70 | J17: 431227500284 | K17: 3.5 | L17: 纯电 | M17: 346 | N17: 0.96 | O17: 45537.71 | P17: 是 | Q17: 是
A18: 12 | B18: 怀化市 | C18: 新晃县 | D18: 新晃夜郎汽车客运有限公司 | E18: 湘ND17511 | F18: 无变更 | H18: 吉利帝豪牌 | I18: HQ7002BEV70 | J18: 431227500286 | K18: 3.5 | L18: 纯电 | M18: 362 | N18: 1 | O18: 71274.06 | P18: 是 | Q18: 是
A19: 13 | B19: 怀化市 | C19: 新晃县 | D19: 新晃夜郎汽车客运有限公司 | E19: 湘NY9155 | F19: 报废 | G19: 45766 | H19: 大众汽车牌 | I19: SVW71612RS | J19: 431227500247 | K19: 7.9 | L19: 油车 | M19: 90 | N19: 0.25 | O19: 22689.99 | P19: 是 | Q19: 是
B20: 怀化市 | C20: 新晃县 | D20: 新晃夜郎汽车客运有限公司 | E20: 湘ND17739 | F20: 新购置 | G20: 45828 | H20: 比亚迪秦牌 | I20: BYD7008BEVB1 | J20: 431227500361 | K20: 0.6 | L20: 纯电 | M20: 185 | N20: 0.51 | O20: 47210.5 | P20: 是 | Q20: 是
A21: 14 | B21: 怀化市 | C21: 新晃县 | D21: 新晃夜郎汽车客运有限公司 | E21: 湘ND18839 | F21: 无变更 | H21: 吉利帝豪牌 | I21: HQ7002BEV70 | J21: 431227500285 | K21: 3.5 | L21: 纯电 | M21: 364 | N21: 1 | O21: 85193.08 | P21: 是 | Q21: 是
A22: 15 | B22: 怀化市 | C22: 新晃县 | D22: 新晃夜郎汽车客运有限公司 | E22: 湘NY9151 | F22: 报废 | G22: 45766 | H22: 大众汽车牌 | I22: SVW71612RS | J22: 431227500244 | K22: 7.9 | L22: 油车 | M22: 90 | N22: 0.25 | O22: 25061.59 | P22: 是 | Q22: 是
B23: 怀化市 | C23: 新晃县 | D23: 新晃夜郎汽车客运有限公司 | E23: 湘ND40529 | F23: 新购置 | G23: 45824 | H23: 比亚迪秦牌 | I23: BYD7008BEVB1 | J23: 431227500359 | K23: 0.6 | L23: 纯电 | M23: 199 | N23: 0.55 | O23: 50510.77 | P23: 是 | Q23: 是
A24: 16 | B24: 怀化市 | C24: 新晃县 | D24: 新晃夜郎汽车客运有限公司 | E24: 湘ND40533 | F24: 无变更 | H24: 比亚迪秦牌 | I24: BYD7008BEVB1 | J24: 431227500315 | K24: 1.4 | L24: 纯电 | M24: 356 | N24: 0.99 | O24: 80324.93 | P24: 是 | Q24: 是
A25: 17 | B25: 怀化市 | C25: 新晃县 | D25: 新晃夜郎汽车客运有限公司 | E25: 湘ND40599 | F25: 无变更 | H25: 比亚迪秦牌 | I25: BYD7008BEVB1 | J25: 431227500349 | K25: 1 | L25: 纯电 | M25: 365 | N25: 1 | O25: 81083.81 | P25: 是 | Q25: 是
A26: 18 | B26: 怀化市 | C26: 新晃县 | D26: 新晃夜郎汽车客运有限公司 | E26: 湘NY9149 | F26: 报废 | G26: 45766 | H26: 大众汽车牌 | I26: SVW71612RS | J26: 431227500241 | K26: 7.9 | L26: 油车 | M26: 90 | N26: 0.25 | O26: 22332.69 | P26: 是 | Q26: 是
B27: 怀化市 | C27: 新晃县 | D27: 新晃夜郎汽车客运有限公司 | E27: 湘ND40636 | F27: 新购置 | G27: 45824 | H27: 比亚迪秦牌 | I27: BYD7008BEVB1 | J27: 431227500365 | K27: 0.6 | L27: 纯电 | M27: 195 | N27: 0.54 | O27: 55884.72 | P27: 是 | Q27: 是
A28: 19 | B28: 怀化市 | C28: 新晃县 | D28: 新晃夜郎汽车客运有限公司 | E28: 湘NY6898 | F28: 报废 | G28: 45917 | H28: 大众汽车牌 | I28: SVW71612AH | J28: 431227500259 | K28: 7 | L28: 油车 | M28: 252 | N28: 0.7 | O28: 49688.23 | P28: 是 | Q28: 是
B29: 怀化市 | C29: 新晃县 | D29: 新晃夜郎汽车客运有限公司 | E29: 湘ND40808 | F29: 新购置 | G29: 45946 | H29: 比亚迪秦牌 | I29: BYD7008BEVB1 | J29: 431227500373 | K29: 0.2 | L29: 纯电 | M29: 77 | N29: 0.21 | O29: 17900.7 | P29: 是 | Q29: 是
A30: 20 | B30: 怀化市 | C30: 新晃县 | D30: 新晃夜郎汽车客运有限公司 | E30: 湘ND40919 | F30: 无变更 | H30: 比亚迪秦牌 | I30: BYD7008BEVB1 | J30: 431227500344 | K30: 1 | L30: 纯电 | M30: 363 | N30: 1 | O30: 90627.11 | P30: 是 | Q30: 是
A31: 21 | B31: 怀化市 | C31: 新晃县 | D31: 新晃夜郎汽车客运有限公司 | E31: 湘ND41322 | F31: 无变更 | H31: 比亚迪秦牌 | I31: BYD7008BEVB1 | J31: 431227500322 | K31: 1 | L31: 纯电 | M31: 365 | N31: 1 | O31: 97927.27 | P31: 是 | Q31: 是
A32: 22 | B32: 怀化市 | C32: 新晃县 | D32: 新晃夜郎汽车客运有限公司 | E32: 湘NY9156 | F32: 报废 | G32: 45766 | H32: 大众汽车牌 | I32: SVW71612RS | J32: 431227500248 | K32: 7.9 | L32: 油车 | M32: 90 | N32: 0.25 | O32: 18759.35 | P32: 是 | Q32: 是
B33: 怀化市 | C33: 新晃县 | D33: 新晃夜郎汽车客运有限公司 | E33: 湘ND41356 | F33: 新购置 | G33: 45824 | H33: 比亚迪秦牌 | I33: BYD7008BEVB1 | J33: 431227500364 | K33: 0.6 | L33: 纯电 | M33: 199 | N33: 0.55 | O33: 42094.57 | P33: 是 | Q33: 是
A34: 23 | B34: 怀化市 | C34: 新晃县 | D34: 新晃夜郎汽车客运有限公司 | E34: 湘NY9011 | F34: 报废 | G34: 45910 | H34: 大众汽车牌 | I34: SVW71612AH | J34: 431227300010 | K34: 7.4 | L34: 油车 | M34: 224 | N34: 0.62 | O34: 47228.11 | P34: 是 | Q34: 是
B35: 怀化市 | C35: 新晃县 | D35: 新晃夜郎汽车客运有限公司 | E35: 湘ND41439 | F35: 新购置 | G35: 45946 | H35: 比亚迪秦牌 | I35: BYD7008BEVB1 | J35: 431227500375 | K35: 0.2 | L35: 纯电 | M35: 77 | N35: 0.21 | O35: 18792.01 | P35: 是 | Q35: 是
A36: 24 | B36: 怀化市 | C36: 新晃县 | D36: 新晃夜郎汽车客运有限公司 | E36: 湘ND41748 | F36: 无变更 | H36: 比亚迪秦牌 | I36: BYD7008BEVB1 | J36: 431227500336 | K36: 1.6 | L36: 纯电 | M36: 365 | N36: 1 | O36: 67682.13 | P36: 是 | Q36: 是
A37: 25 | B37: 怀化市 | C37: 新晃县 | D37: 新晃夜郎汽车客运有限公司 | E37: 湘ND41869 | F37: 无变更 | H37: 比亚迪秦牌 | I37: BYD7008BEVB1 | J37: 431227500327 | K37: 1.6 | L37: 纯电 | M37: 364 | N37: 1 | O37: 94556.39 | P37: 是 | Q37: 是
A38: 26 | B38: 怀化市 | C38: 新晃县 | D38: 新晃夜郎汽车客运有限公司 | E38: 湘ND42115 | F38: 无变更 | H38: 比亚迪秦牌 | I38: BYD7008BEVB1 | J38: 431227500325 | K38: 1.6 | L38: 纯电 | M38: 364 | N38: 1 | O38: 67237.52 | P38: 是 | Q38: 是
A39: 27 | B39: 怀化市 | C39: 新晃县 | D39: 新晃夜郎汽车客运有限公司 | E39: 湘ND42169 | F39: 无变更 | H39: 比亚迪秦牌 | I39: BYD7008BEVB1 | J39: 431227500343 | K39: 1.1 | L39: 纯电 | M39: 360 | N39: 1 | O39: 75734.75 | P39: 是 | Q39: 是
A40: 28 | B40: 怀化市 | C40: 新晃县 | D40: 新晃夜郎汽车客运有限公司 | E40: 湘ND42360 | F40: 无变更 | H40: 比亚迪秦牌 | I40: BYD7008BEVB1 | J40: 431227500311 | K40: 1.6 | L40: 纯电 | M40: 353 | N40: 0.98 | O40: 59589.02 | P40: 是 | Q40: 是
A41: 29 | B41: 怀化市 | C41: 新晃县 | D41: 新晃夜郎汽车客运有限公司 | E41: 湘ND42418 | F41: 无变更 | H41: 比亚迪秦牌 | I41: BYD7008BEVB1 | J41: 431227500316 | K41: 1.6 | L41: 纯电 | M41: 364 | N41: 1 | O41: 95515.4 | P41: 是 | Q41: 是
A42: 30 | B42: 怀化市 | C42: 新晃县 | D42: 新晃夜郎汽车客运有限公司 | E42: 湘ND42455 | F42: 无变更 | H42: 比亚迪秦牌 | I42: BYD7008BEVB1 | J42: 431227500313 | K42: 1.6 | L42: 纯电 | M42: 359 | N42: 1 | O42: 67258.04 | P42: 是 | Q42: 是
A43: 31 | B43: 怀化市 | C43: 新晃县 | D43: 新晃夜郎汽车客运有限公司 | E43: 湘ND42636 | F43: 无变更 | H43: 比亚迪秦牌 | I43: BYD7008BEVB1 | J43: 431227500314 | K43: 1.6 | L43: 纯电 | M43: 365 | N43: 1 | O43: 104586.42 | P43: 是 | Q43: 是
A44: 32 | B44: 怀化市 | C44: 新晃县 | D44: 新晃夜郎汽车客运有限公司 | E44: 湘ND42872 | F44: 无变更 | H44: 比亚迪秦牌 | I44: BYD7008BEVB1 | J44: 431227500317 | K44: 1.6 | L44: 纯电 | M44: 365 | N44: 1 | O44: 78699.16 | P44: 是 | Q44: 是
A45: 33 | B45: 怀化市 | C45: 新晃县 | D45: 新晃夜郎汽车客运有限公司 | E45: 湘ND42885 | F45: 无变更 | H45: 比亚迪秦牌 | I45: BYD7008BEVB1 | J45: 431227500347 | K45: 1 | L45: 纯电 | M45: 364 | N45: 1 | O45: 119827.64 | P45: 是 | Q45: 是
A46: 34 | B46: 怀化市 | C46: 新晃县 | D46: 新晃夜郎汽车客运有限公司 | E46: 湘ND43069 | F46: 无变更 | H46: 比亚迪秦牌 | I46: BYD7008BEVB1 | J46: 431227500323 | K46: 1.6 | L46: 纯电 | M46: 364 | N46: 1 | O46: 82805.16 | P46: 是 | Q46: 是
A47: 35 | B47: 怀化市 | C47: 新晃县 | D47: 新晃夜郎汽车客运有限公司 | E47: 湘NY9152 | F47: 报废 | G47: 45766 | H47: 大众汽车牌 | I47: SVW71612RS | J47: 431227500245 | K47: 7.9 | L47: 油车 | M47: 90 | N47: 0.25 | O47: 23143.26 | P47: 是 | Q47: 是
B48: 怀化市 | C48: 新晃县 | D48: 新晃夜郎汽车客运有限公司 | E48: 湘ND43459 | F48: 新购置 | G48: 45828 | H48: 比亚迪秦牌 | I48: BYD7008BEVB1 | J48: 431227500363 | K48: 0.6 | L48: 纯电 | M48: 184 | N48: 0.51 | O48: 40207.98 | P48: 是 | Q48: 是
A49: 36 | B49: 怀化市 | C49: 新晃县 | D49: 新晃夜郎汽车客运有限公司 | E49: 湘ND43806 | F49: 无变更 | H49: 比亚迪秦牌 | I49: BYD7008BEVB1 | J49: 431227500337 | K49: 1.6 | L49: 纯电 | M49: 365 | N49: 1 | O49: 107589.61 | P49: 是 | Q49: 是
A50: 37 | B50: 怀化市 | C50: 新晃县 | D50: 新晃夜郎汽车客运有限公司 | E50: 湘ND44048 | F50: 无变更 | H50: 比亚迪秦牌 | I50: BYD7008BEVB1 | J50: 431227500333 | K50: 1.6 | L50: 纯电 | M50: 365 | N50: 1 | O50: 89851.95 | P50: 是 | Q50: 是
A51: 38 | B51: 怀化市 | C51: 新晃县 | D51: 新晃夜郎汽车客运有限公司 | E51: 湘ND44219 | F51: 无变更 | H51: 比亚迪秦牌 | I51: BYD7008BEVB1 | J51: 431227500338 | K51: 1.4 | L51: 纯电 | M51: 360 | N51: 1 | O51: 82038.96 | P51: 是 | Q51: 是
A52: 39 | B52: 怀化市 | C52: 新晃县 | D52: 新晃夜郎汽车客运有限公司 | E52: 湘ND44338 | F52: 无变更 | H52: 比亚迪秦牌 | I52: BYD7008BEVB1 | J52: 431227500351 | K52: 1 | L52: 纯电 | M52: 365 | N52: 1 | O52: 79568.5 | P52: 是 | Q52: 是
A53: 40 | B53: 怀化市 | C53: 新晃县 | D53: 新晃夜郎汽车客运有限公司 | E53: 湘NY9018 | F53: 报废 | G53: 45765 | H53: 大众汽车牌 | I53: SVW71612AH | J53: 431227300016 | K53: 7.4 | L53: 油车 | M53: 107 | N53: 0.3 | O53: 30358.78 | P53: 是 | Q53: 是
B54: 怀化市 | C54: 新晃县 | D54: 新晃夜郎汽车客运有限公司 | E54: 湘ND44551 | F54: 新购置 | G54: 45824 | H54: 比亚迪秦牌 | I54: BYD7008BEVB1 | J54: 431227500355 | K54: 0.6 | L54: 纯电 | M54: 199 | N54: 0.55 | O54: 62105.02 | P54: 是 | Q54: 是
A55: 41 | B55: 怀化市 | C55: 新晃县 | D55: 新晃夜郎汽车客运有限公司 | E55: 湘ND44779 | F55: 无变更 | H55: 比亚迪秦牌 | I55: BYD7008BEVB1 | J55: 431227500334 | K55: 1.6 | L55: 纯电 | M55: 364 | N55: 1 | O55: 80191.22 | P55: 是 | Q55: 是
A56: 42 | B56: 怀化市 | C56: 新晃县 | D56: 新晃夜郎汽车客运有限公司 | E56: 湘ND44922 | F56: 无变更 | H56: 比亚迪秦牌 | I56: BYD7008BEVB1 | J56: 431227500312 | K56: 1.6 | L56: 纯电 | M56: 362 | N56: 1 | O56: 90961.35 | P56: 是 | Q56: 是
A57: 43 | B57: 怀化市 | C57: 新晃县 | D57: 新晃夜郎汽车客运有限公司 | E57: 湘NY9012 | F57: 报废 | G57: 45765 | H57: 大众汽车牌 | I57: SVW71612AH | J57: 431227300011 | K57: 7.7 | L57: 油车 | M57: 105 | N57: 0.29 | O57: 23402.14 | P57: 是 | Q57: 是
B58: 怀化市 | C58: 新晃县 | D58: 新晃夜郎汽车客运有限公司 | E58: 湘ND44958 | F58: 新购置 | G58: 45828 | H58: 比亚迪秦牌 | I58: BYD7008BEVB1 | J58: 431227500354 | K58: 0.6 | L58: 纯电 | M58: 186 | N58: 0.52 | O58: 41709.8 | P58: 是 | Q58: 是
A59: 44 | B59: 怀化市 | C59: 新晃县 | D59: 新晃夜郎汽车客运有限公司 | E59: 湘NY9153 | F59: 报废 | G59: 45766 | H59: 大众汽车牌 | I59: SVW71612RS | J59: 431227500246 | K59: 7.9 | L59: 油车 | M59: 89 | N59: 0.25 | O59: 20677.57 | P59: 是 | Q59: 是
B60: 怀化市 | C60: 新晃县 | D60: 新晃夜郎汽车客运有限公司 | E60: 湘ND44959 | F60: 新购置 | G60: 45828 | H60: 比亚迪秦牌 | I60: BYD7008BEVB1 | J60: 431227500357 | K60: 0.6 | L60: 纯电 | M60: 195 | N60: 0.54 | O60: 46489.89 | P60: 是 | Q60: 是
A61: 45 | B61: 怀化市 | C61: 新晃县 | D61: 新晃夜郎汽车客运有限公司 | E61: 湘NY9158 | F61: 报废 | G61: 45766 | H61: 大众汽车牌 | I61: SVW71612RS | J61: 431227500250 | K61: 7.9 | L61: 油车 | M61: 90 | N61: 0.25 | O61: 16993.56 | P61: 是 | Q61: 是
B62: 怀化市 | C62: 新晃县 | D62: 新晃夜郎汽车客运有限公司 | E62: 湘ND45826 | F62: 新购置 | G62: 45828 | H62: 比亚迪秦牌 | I62: BYD7008BEVB1 | J62: 431227500356 | K62: 0.6 | L62: 纯电 | M62: 187 | N62: 0.52 | O62: 43528.73 | P62: 是 | Q62: 是
A63: 46 | B63: 怀化市 | C63: 新晃县 | D63: 新晃夜郎汽车客运有限公司 | E63: 湘NY9146 | F63: 报废 | G63: 45765 | H63: 大众汽车牌 | I63: SVW71612RS | J63: 431227500238 | K63: 7.9 | L63: 油车 | M63: 90 | N63: 0.25 | O63: 18248.41 | P63: 是 | Q63: 是
B64: 怀化市 | C64: 新晃县 | D64: 新晃夜郎汽车客运有限公司 | E64: 湘ND46319 | F64: 新购置 | G64: 45828 | H64: 比亚迪秦牌 | I64: BYD7008BEVB1 | J64: 431227500353 | K64: 0.6 | L64: 纯电 | M64: 191 | N64: 0.53 | O64: 46266.33 | P64: 是 | Q64: 是
A65: 47 | B65: 怀化市 | C65: 新晃县 | D65: 新晃夜郎汽车客运有限公司 | E65: 湘ND46545 | F65: 无变更 | H65: 比亚迪秦牌 | I65: BYD7008BEVB1 | J65: 431227500335 | K65: 1.6 | L65: 纯电 | M65: 361 | N65: 1 | O65: 83066.48 | P65: 是 | Q65: 是
A66: 48 | B66: 怀化市 | C66: 新晃县 | D66: 新晃夜郎汽车客运有限公司 | E66: 湘ND47008 | F66: 无变更 | H66: 吉利帝豪牌 | I66: HQ7OO2BEV77 | J66: 413227500282 | K66: 3.5 | L66: 纯电 | M66: 365 | N66: 1 | O66: 95347.81 | P66: 是 | Q66: 是
A67: 49 | B67: 怀化市 | C67: 新晃县 | D67: 新晃夜郎汽车客运有限公司 | E67: 湘NY9015 | F67: 报废 | G67: 45917 | H67: 大众汽车牌 | I67: SVW71612AH | J67: 431227300013 | K67: 7.4 | L67: 油车 | M67: 247 | N67: 0.69 | O67: 74361.59 | P67: 是 | Q67: 是
B68: 怀化市 | C68: 新晃县 | D68: 新晃夜郎汽车客运有限公司 | E68: 湘ND47015 | F68: 新购置 | G68: 45945 | H68: 比亚迪秦牌 | I68: BYD7008BEVB1 | J68: 431227500378 | K68: 0.2 | L68: 纯电 | M68: 77 | N68: 0.21 | O68: 24832.66 | P68: 是 | Q68: 是
A69: 50 | B69: 怀化市 | C69: 新晃县 | D69: 新晃夜郎汽车客运有限公司 | E69: 湘ND47133 | F69: 无变更 | H69: 比亚迪秦牌 | I69: BYD7008BEVB1 | J69: 431227500339 | K69: 1.6 | L69: 纯电 | M69: 361 | N69: 1 | O69: 82961.78 | P69: 是 | Q69: 是
A70: 51 | B70: 怀化市 | C70: 新晃县 | D70: 新晃夜郎汽车客运有限公司 | E70: 湘ND47355 | F70: 无变更 | H70: 比亚迪秦牌 | I70: BYD7008BEVB1 | J70: 431227500332 | K70: 1.4 | L70: 纯电 | M70: 359 | N70: 1 | O70: 126843.25 | P70: 是 | Q70: 是
A71: 52 | B71: 怀化市 | C71: 新晃县 | D71: 新晃夜郎汽车客运有限公司 | E71: 湘ND47448 | F71: 无变更 | H71: 比亚迪秦牌 | I71: BYD7008BEVB1 | J71: 431227500321 | K71: 1.6 | L71: 纯电 | M71: 365 | N71: 1 | O71: 99230.85 | P71: 是 | Q71: 是
A72: 53 | B72: 怀化市 | C72: 新晃县 | D72: 新晃夜郎汽车客运有限公司 | E72: 湘ND47849 | F72: 无变更 | H72: 比亚迪秦牌 | I72: BYD7008BEVB1 | J72: 431227500350 | K72: 1 | L72: 纯电 | M72: 363 | N72: 1 | O72: 110914.22 | P72: 是 | Q72: 是
A73: 54 | B73: 怀化市 | C73: 新晃县 | D73: 新晃夜郎汽车客运有限公司 | E73: 湘ND48112 | F73: 无变更 | H73: 比亚迪秦牌 | I73: BYD7008BEVB1 | J73: 431227500330 | K73: 1.6 | L73: 纯电 | M73: 358 | N73: 0.99 | O73: 63114.29 | P73: 是 | Q73: 是
A74: 55 | B74: 怀化市 | C74: 新晃县 | D74: 新晃夜郎汽车客运有限公司 | E74: 湘ND48223 | F74: 无变更 | H74: 比亚迪秦牌 | I74: BYD7008BEVB1 | J74: 431227500342 | K74: 1.1 | L74: 纯电 | M74: 364 | N74: 1 | O74: 105358.09 | P74: 是 | Q74: 是
A75: 56 | B75: 怀化市 | C75: 新晃县 | D75: 新晃夜郎汽车客运有限公司 | E75: 湘ND48279 | F75: 无变更 | H75: 比亚迪秦牌 | I75: BYD7008BEVB1 | J75: 431227500324 | K75: 1.6 | L75: 纯电 | M75: 357 | N75: 0.99 | O75: 70296.91 | P75: 是 | Q75: 是
A76: 57 | B76: 怀化市 | C76: 新晃县 | D76: 新晃夜郎汽车客运有限公司 | E76: 湘ND48348 | F76: 无变更 | H76: 比亚迪秦牌 | I76: BYD7008BEVB1 | J76: 431227500348 | K76: 1 | L76: 纯电 | M76: 355 | N76: 0.99 | O76: 71627.46 | P76: 是 | Q76: 是
A77: 58 | B77: 怀化市 | C77: 新晃县 | D77: 新晃夜郎汽车客运有限公司 | E77: 湘NY9010 | F77: 报废 | G77: 45765 | H77: 大众汽车牌 | I77: SVW71612AH | J77: 431227300009 | K77: 7.7 | L77: 油车 | M77: 97 | N77: 0.27 | O77: 21789.04 | P77: 是 | Q77: 是
B78: 怀化市 | C78: 新晃县 | D78: 新晃夜郎汽车客运有限公司 | E78: 湘ND48749 | F78: 新购置 | G78: 45828 | H78: 比亚迪秦牌 | I78: BYD7008BEVB1 | J78: 431227500362 | K78: 0.6 | L78: 纯电 | M78: 184 | N78: 0.51 | O78: 47336.14 | P78: 是 | Q78: 是
A79: 59 | B79: 怀化市 | C79: 新晃县 | D79: 新晃夜郎汽车客运有限公司 | E79: 湘ND48911 | F79: 无变更 | H79: 比亚迪秦牌 | I79: BYD7008BEVB1 | J79: 431227500326 | K79: 1.6 | L79: 纯电 | M79: 364 | N79: 1 | O79: 64550.15 | P79: 是 | Q79: 是
A80: 60 | B80: 怀化市 | C80: 新晃县 | D80: 新晃夜郎汽车客运有限公司 | E80: 湘ND48936 | F80: 无变更 | H80: 比亚迪秦牌 | I80: BYD7008BEVB1 | J80: 431227500331 | K80: 1.6 | L80: 纯电 | M80: 365 | N80: 1 | O80: 116323.39 | P80: 是 | Q80: 是
A81: 61 | B81: 怀化市 | C81: 新晃县 | D81: 新晃夜郎汽车客运有限公司 | E81: 湘NY9028 | F81: 报废 | G81: 45765 | H81: 大众汽车牌 | I81: SVW71612AH | J81: 431227300025 | K81: 7.7 | L81: 油车 | M81: 105 | N81: 0.29 | O81: 19595.61 | P81: 是 | Q81: 是
B82: 怀化市 | C82: 新晃县 | D82: 新晃夜郎汽车客运有限公司 | E82: 湘ND48938 | F82: 新购置 | G82: 45828 | H82: 比亚迪秦牌 | I82: BYD7008BEVB1 | J82: 431227500366 | K82: 0.6 | L82: 纯电 | M82: 184 | N82: 0.51 | O82: 39598.55 | P82: 是 | Q82: 是
A83: 62 | B83: 怀化市 | C83: 新晃县 | D83: 新晃夜郎汽车客运有限公司 | E83: 湘ND48959 | F83: 无变更 | H83: 比亚迪秦牌 | I83: BYD7008BEVB1 | J83: 431227500341 | K83: 1.1 | L83: 纯电 | M83: 322 | N83: 0.89 | O83: 76843.51 | P83: 是 | Q83: 是
A84: 63 | B84: 怀化市 | C84: 新晃县 | D84: 新晃夜郎汽车客运有限公司 | E84: 湘ND49032 | F84: 无变更 | H84: 比亚迪秦牌 | I84: BYD7008BEVB1 | J84: 431227500340 | K84: 1.1 | L84: 纯电 | M84: 365 | N84: 1 | O84: 93252.86 | P84: 是 | Q84: 是
A85: 64 | B85: 怀化市 | C85: 新晃县 | D85: 新晃夜郎汽车客运有限公司 | E85: 湘NY0898 | F85: 报废 | G85: 45917 | H85: 大众汽车牌 | I85: SVW71612AH | J85: 431227500253 | K85: 7 | L85: 油车 | M85: 245 | N85: 0.68 | O85: 41434.66 | P85: 是 | Q85: 是
B86: 怀化市 | C86: 新晃县 | D86: 新晃夜郎汽车客运有限公司 | E86: 湘ND49123 | F86: 新购置 | G86: 45946 | H86: 比亚迪秦牌 | I86: BYD7008BEVB1 | J86: 431227500376 | K86: 0.2 | L86: 纯电 | M86: 76 | N86: 0.21 | O86: 10789.83 | P86: 是 | Q86: 是
A87: 65 | B87: 怀化市 | C87: 新晃县 | D87: 新晃夜郎汽车客运有限公司 | E87: 湘ND49125 | F87: 无变更 | H87: 比亚迪秦牌 | I87: BYD7008BEVB1 | J87: 431227500329 | K87: 1.6 | L87: 纯电 | M87: 361 | N87: 1 | O87: 93728.39 | P87: 是 | Q87: 是
A88: 66 | B88: 怀化市 | C88: 新晃县 | D88: 新晃夜郎汽车客运有限公司 | E88: 湘ND49127 | F88: 无变更 | H88: 比亚迪秦牌 | I88: BYD7008BEVB1 | J88: 431227500328 | K88: 1.6 | L88: 纯电 | M88: 365 | N88: 1 | O88: 89711.73 | P88: 是 | Q88: 是
A89: 67 | B89: 怀化市 | C89: 新晃县 | D89: 新晃夜郎汽车客运有限公司 | E89: 湘ND49321 | F89: 无变更 | H89: 比亚迪秦牌 | I89: BYD7008BEVB1 | J89: 431227500320 | K89: 1.6 | L89: 纯电 | M89: 364 | N89: 1 | O89: 107128.59 | P89: 是 | Q89: 是
A90: 68 | B90: 怀化市 | C90: 新晃县 | D90: 新晃夜郎汽车客运有限公司 | E90: 湘ND49455 | F90: 无变更 | H90: 比亚迪秦牌 | I90: BYD7008BEVB1 | J90: 431227500318 | K90: 1.6 | L90: 纯电 | M90: 364 | N90: 1 | O90: 94625.01 | P90: 是 | Q90: 是
A91: 69 | B91: 怀化市 | C91: 新晃县 | D91: 新晃夜郎汽车客运有限公司 | E91: 湘ND49458 | F91: 无变更 | H91: 比亚迪秦牌 | I91: BYD7008BEVB1 | J91: 431227500319 | K91: 1.6 | L91: 纯电 | M91: 365 | N91: 1 | O91: 95695.94 | P91: 是 | Q91: 是
A92: 70 | B92: 怀化市 | C92: 新晃县 | D92: 新晃夜郎汽车客运有限公司 | E92: 湘NY9039 | F92: 报废 | G92: 45917 | H92: 大众汽车牌 | I92: SVW71612AH | J92: 431227300035 | K92: 7.4 | L92: 油车 | M92: 241 | N92: 0.67 | O92: 48761.11 | P92: 是 | Q92: 是
B93: 怀化市 | C93: 新晃县 | D93: 新晃夜郎汽车客运有限公司 | E93: 湘ND49648 | F93: 新购置 | G93: 45946 | H93: 比亚迪秦牌 | I93: BYD7008BEVB1 | J93: 431227500374 | K93: 0.2 | L93: 纯电 | M93: 77 | N93: 0.21 | O93: 13092.25 | P93: 是 | Q93: 是
A94: 71 | B94: 怀化市 | C94: 新晃县 | D94: 新晃夜郎汽车客运有限公司 | E94: 湘ND49899 | F94: 无变更 | H94: 比亚迪秦牌 | I94: BYD7008BEVB1 | J94: 431227500346 | K94: 1.1 | L94: 纯电 | M94: 365 | N94: 1 | O94: 84556.58 | P94: 是 | Q94: 是
A95: 72 | B95: 怀化市 | C95: 新晃县 | D95: 新晃夜郎汽车客运有限公司 | E95: 湘ND49982 | F95: 无变更 | H95: 比亚迪秦牌 | I95: BYD7008BEVB1 | J95: 431227500345 | K95: 1.1 | L95: 纯电 | M95: 363 | N95: 1 | O95: 99172.27 | P95: 是 | Q95: 是
A96: 73 | B96: 怀化市 | C96: 新晃县 | D96: 新晃夜郎汽车客运有限公司 | E96: 湘NY9148 | F96: 报废 | G96: 45765 | H96: 大众汽车牌 | I96: SVW71612RS | J96: 431227500251 | K96: 7.9 | L96: 油车 | M96: 82 | N96: 0.23 | O96: 17418.72 | P96: 是 | Q96: 是
B97: 怀化市 | C97: 新晃县 | D97: 新晃夜郎汽车客运有限公司 | E97: 湘NDB1225 | F97: 新购置 | G97: 45828 | H97: 比亚迪秦牌 | I97: BYD7008BEVB1 | J97: 431227500358 | K97: 0.6 | L97: 纯电 | M97: 195 | N97: 0.54 | O97: 54301.25 | P97: 是 | Q97: 是
A98: 74 | B98: 怀化市 | C98: 新晃县 | D98: 新晃夜郎汽车客运有限公司 | E98: 湘NY0123 | F98: 无变更 | H98: 大众汽车牌 | I98: SVW71612AH | J98: 431227500252 | K98: 7.3 | L98: 油车 | M98: 361 | N98: 1 | O98: 88017.98 | P98: 是 | Q98: 是
A99: 75 | B99: 怀化市 | C99: 新晃县 | D99: 新晃夜郎汽车客运有限公司 | E99: 湘NY3198 | F99: 无变更 | H99: 大众汽车牌 | I99: SVW71612AH | J99: 431227500254 | K99: 7.3 | L99: 油车 | M99: 358 | N99: 0.99 | O99: 81515.27 | P99: 是 | Q99: 是
A100: 76 | B100: 怀化市 | C100: 新晃县 | D100: 新晃夜郎汽车客运有限公司 | E100: 湘NY3289 | F100: 无变更 | H100: 大众汽车牌 | I100: SVW71612AH | J100: 431227500255 | K100: 7.3 | L100: 油车 | M100: 365 | N100: 1 | O100: 48731.42 | P100: 是 | Q100: 是
...

Sheet Sheet2

Sheet Sheet3
